BEGIN:VCALENDAR
VERSION:2.0
PRODID:-//Body Artworx - ECPv6.15.19//NONSGML v1.0//EN
CALSCALE:GREGORIAN
METHOD:PUBLISH
X-WR-CALNAME:Body Artworx
X-ORIGINAL-URL:https://bodyartworx.com
X-WR-CALDESC:Events for Body Artworx
REFRESH-INTERVAL;VALUE=DURATION:PT1H
X-Robots-Tag:noindex
X-PUBLISHED-TTL:PT1H
BEGIN:VTIMEZONE
TZID:UTC
BEGIN:STANDARD
TZOFFSETFROM:+0000
TZOFFSETTO:+0000
TZNAME:UTC
DTSTART:20230101T000000
END:STANDARD
END:VTIMEZONE
BEGIN:VEVENT
DTSTART;TZID=UTC:20250215T180000
DTEND;TZID=UTC:20250215T220000
DTSTAMP:20260419T144254
CREATED:20250120T143907Z
LAST-MODIFIED:20250210T203544Z
UID:801-1739642400-1739656800@bodyartworx.com
SUMMARY:Luminous Love
DESCRIPTION:About the Workshop\n			\n				\n				\n				\n				\n				Extend the romance of Valentine’s Day with an intimate and artistic evening designed to deepen connection and ignite passion. Join us for “Luminous Love\,” a unique body painting experience where you and your partner can explore creativity\, sensuality\, and each other in a whole new light. \n			\n			\n				\n				\n				\n				\n			\n				\n				\n			\n				\n				\n				\n				\n				\n				\n				\n				\n				\n				\n				\n				\n				\n				\n				\n				\n				\n				\n			\n			\n				\n				\n				\n				\n				\n				\n				\n				\n				\n				About\n			\n				\n				\n				\n				\n				Neon Dreams: UV Body Painting Workshop \nEvent DetailsTheme: ValentinesWhen: Feb 15 SatLocation: TBA (look here during the day)Activity: UV body painting workshop & Sensual play partyIncludes: Drinks\, food\, photoshoot\, and social time What to wear: Comfortable clothes during painting (topless or naked is optional) \n  \n			\n			\n				\n				\n				\n				\n			\n				\n				\n			\n				\n				\n				\n				\n				\n				\n				\n				\n				\n				\n				\n				\n				\n				\n				\n				\n				\n				Are you ready to become a living masterpiece? Join us for a night of artistic expression and vibrant creativity inspired by the iconic Van Gogh.  \nGet ready to unleash your inner artist and create stunning UV masterpieces! We’ll provide all the materials you need to paint your partner or friend under the glow of black lights. \n			\n			\n				\n				\n				\n				\n				\n			\n				\n				\n				\n				\n			\n				\n				\n			\n				\n				\n				\n				\n				\n				\n				\n				\n				\n				\n				\n				\n				\n				\n				\n				\n				\n				\n			\n			\n				\n				\n				\n				\n				\n				\n				\n				\n				\n				What to expect:\n			\n				\n				\n				\n				\n				\nBody painting\, food and drinks\, and a night of art and fun play with friends.\nA relaxed and intimate atmosphere designed to encourage connection and self-expression.\nA variety of high-quality UV body paints and tools provided.\nSensual music and lighting to set the mood.\nTime to connect with other couples and enjoy drinks and conversation after the painting session.\n\n			\n			\n				\n				\n				\n				\n			\n				\n				\n			\n				\n				\n				\n				\n				\n				\n				\n				\n				\n				\n				\n				\n				\n				\n				\n				\n				\n				1. Welcome & Introduction \n2. UV Paint Demonstration \n3. UV Painting Session Canvas 1 (30 mins) \n4. UV Painting Session Canvas 2 (30 mins) \n5. Photo Shoot & Socials – Photoshoot at the photo booth. \n			\n			\n				\n				\n				\n				\n			\n				\n				\n				\n				\n				\n				\n				\n				\n				\n				\n				What to bring?\n			\n				\n				\n				\n				\n				1. Yoga mats\, or comfortable mats and pillows for seating. \n2. Towels \n3. Extra Clothes for changing (Optional)\n			\n				\n				\n				\n				\n				Tickets\n			\n				\n				\n				\n				\n				Participation fee is $50. This will be divided into 2 payments. The reservation fee of $25\, booked online to save your spot (non-refundable\, used to buy materials and food.) $25 on the door fee to be paid at the entrance on the day of the workshop. \n\n$25 Reservation fee – book now online\n$25 Door fee on the day of the workshop.
URL:https://bodyartworx.com/event/luminous-love/
LOCATION:70 Enderley Avenue\, Hamilton\, 70 Enderley Avenue\, Hamilton\, Waikato\, New Zealand
CATEGORIES:UV Body Painting,Workshops
ATTACH;FMTTYPE=image/png:https://bodyartworx.com/wp-content/uploads/2025/01/Luminous-Love.png
END:VEVENT
BEGIN:VEVENT
DTSTART;TZID=UTC:20241109T150000
DTEND;TZID=UTC:20241109T180000
DTSTAMP:20260419T144254
CREATED:20240814T135124Z
LAST-MODIFIED:20241110T234714Z
UID:240-1731164400-1731175200@bodyartworx.com
SUMMARY:Neon Dreams 2024
DESCRIPTION:About\n			\n				\n				\n				\n				\n				Neon Dreams: UV Body Painting Workshop \nEvent DetailsTheme: Van Gogh ArtWhen: 09 November 2024Location: 8 Mt Eden RoadActivity: UV body painting WorkshopFormat: Partnered\, bring a friend or a partner\, if without a partner we can find you a partner during the event.Includes: Drinks\, food\, photoshoot\, and social time What to wear: Comfortable clothes during painting (topless or naked is optional) \n  \n			\n			\n				\n				\n				\n				\n			\n				\n				\n			\n				\n				\n				\n				\n				\n				\n				\n				\n				\n				\n				\n				\n				\n				\n				\n				\n				\n				About the Workshop\n			\n				\n				\n				\n				\n				Are you ready to become a living masterpiece? Join us for a night of artistic expression and vibrant creativity inspired by the iconic Van Gogh.  \nGet ready to unleash your inner artist and create stunning UV masterpieces! We’ll provide all the materials you need to paint your partner or friend under the glow of black lights. \n			\n			\n				\n				\n				\n				\n				\n			\n				\n				\n				\n				\n			\n				\n				\n			\n				\n				\n				\n				\n				\n				\n				\n				\n				\n				\n				\n				\n				\n				\n				\n				\n				\n				\n			\n			\n				\n				\n				\n				\n				\n				\n				\n				\n				\n				What to expect:\n			\n				\n				\n				\n				\n				\nA canvas of creativity: Learn the art of applying UV-reactive paints to the human body\, transforming yourself into a walking\, glowing work of art.\nHands-on fun: Get creative and experiment with different designs\, from swirling stars to vibrant sunflowers.\nA starry night photo shoot: Capture your masterpiece under UV light and create unforgettable memories.\n\n			\n			\n				\n				\n				\n				\n			\n				\n				\n			\n				\n				\n				\n				\n				\n				\n				\n				\n				\n				\n				\n				\n				\n				\n				\n				\n				\n				1. Welcome & Introduction \n2. UV Paint Demonstration \n3. UV Painting Session Canvas 1 (30 mins) \n4. UV Painting Session Canvas 2 (30 mins) \n5. Photo Shoot & Socials – Photoshoot at the photo booth. \n			\n			\n				\n				\n				\n				\n			\n				\n				\n				\n				\n				\n				\n				\n				\n				\n				\n				What to bring?\n			\n				\n				\n				\n				\n				1. Yoga mats\, or comfortable mats and pillows for seating. \n2. Towels \n3. Extra Clothes for changing (Optional)\n			\n				\n				\n				\n				\n				Tickets\n			\n				\n				\n				\n				\n				Participation fee is $50. This will be divided into 2 payments. The reservation fee of $20\, booked online to save your spot (non-refundable\, used to buy materials and food.) $30 on the door fee to be paid at the entrance on the day of the workshop. \n\n$20 Reservation fee – book now online\n$30 Door fee on the day of the workshop. 
URL:https://bodyartworx.com/event/neon-dreams/
LOCATION:Waikato
ATTACH;FMTTYPE=image/png:https://bodyartworx.com/wp-content/uploads/2024/08/neon-dreams-cover.png
END:VEVENT
BEGIN:VEVENT
DTSTART;TZID=UTC:20240608T200000
DTEND;TZID=UTC:20240608T233000
DTSTAMP:20260419T144254
CREATED:20240805T141751Z
LAST-MODIFIED:20240914T133800Z
UID:81-1717876800-1717889400@bodyartworx.com
SUMMARY:CTTC Body Paint June 2024
DESCRIPTION:Party event\nScrew you @ Chili’s\n			\n			\n				\n				\n				\n				\n			\n				\n				\n			\n				\n				\n				\n				\n				\n				\n				\n				\n				\n				\n				\n				\n				\n				\n					\n					\n					\n				\n				\n					\n					\n					\n				\n				\n					\n					\n					\n				\n				\n					\n					\n					\n				\n				\n				View Gallery
URL:https://bodyartworx.com/event/screw-you-june-2024/
LOCATION:Waikato
END:VEVENT
END:VCALENDAR